BEGIN:VCALENDAR
VERSION:2.0
PRODID:-//Library Market//iCal Export//EN
BEGIN:VEVENT
SUMMARY:Curse of Strahd
UID:43682
DTSTAMP:20260420T162100Z
DTSTART:20260507T213000Z
DTEND:20260507T224500Z
LOCATION:Hampton Bays Public Library, 52 Ponquogue Ave, Hampton Bays, NY 1
 1946, United States
ROOM: Lower Level Program Room
DESCRIPTION:
URL:https://hamptonbays.librarycalendar.com/event/curse-strahd-43682
END:VEVENT
END:VCALENDAR
