BEGIN:VCALENDAR
VERSION:2.0
PRODID:-//Library Market//iCal Export//EN
BEGIN:VEVENT
SUMMARY:Cover Creations
UID:44052
DTSTAMP:20260420T160400Z
DTSTART:20260625T200000Z
DTEND:20260625T210000Z
LOCATION:Hampton Bays Public Library, 52 Ponquogue Ave, Hampton Bays, NY 1
 1946, United States
ROOM: Children&#039;s Program Room
DESCRIPTION:Grades 3 – 6. Decorate a marble notebook cover for a fun su
 mmer journal to keep track of your summer adventures!  Limit 10.
URL:https://hamptonbays.librarycalendar.com/event/cover-creations-44052
END:VEVENT
END:VCALENDAR
