BEGIN:VCALENDAR
VERSION:2.0
PRODID:-//Library Market//iCal Export//EN
BEGIN:VEVENT
SUMMARY:Scrimshaw Workshop for Adults
UID:44094
DTSTAMP:20260420T120800Z
DTSTART:20260718T170000Z
DTEND:20260718T190000Z
LOCATION:Hampton Bays Public Library, 52 Ponquogue Ave, Hampton Bays, NY 1
 1946, United States
ROOM: Helen Gould - SPLIT A
DESCRIPTION:Discover the traditional art of etching detailed designs into 
 natural materials like bone and antler, a practice once used by sailors an
 d artisans to tell stories and mark their journeys. Participants will crea
 te their own engraved piece while exploring the techniques and cultural ro
 ots behind this enduring form of expression. Materials provided. SPACE LIM
 ITED. Non-refundable $10.00 per person due at registration. 
URL:https://hamptonbays.librarycalendar.com/event/scrimshaw-workshop-adult
 s-44094
END:VEVENT
END:VCALENDAR
