BEGIN:VCALENDAR
VERSION:2.0
PRODID:-//Library Market//iCal Export//EN
BEGIN:VEVENT
SUMMARY:Fossil Cookie Dough
UID:44155
DTSTAMP:20260420T120800Z
DTSTART:20260716T200000Z
DTEND:20260716T210000Z
LOCATION:Hampton Bays Public Library, 52 Ponquogue Ave, Hampton Bays, NY 1
 1946, United States
ROOM: Helen Gould - SPLIT A
DESCRIPTION:Grades K-6.  Join the Baking Coach for this sweet prehistoric
  program. First we&#039;ll will mix cookie dough. Then we&#039;ll shape th
 e dough and use fossil cookie cutters. Students can take the dough home to
  bake, or just enjoy it as a dough. Limit 24.
URL:https://hamptonbays.librarycalendar.com/event/juv-reserved-44155
END:VEVENT
END:VCALENDAR
