BEGIN:VCALENDAR
VERSION:2.0
PRODID:-//Library Market//iCal Export//EN
BEGIN:VEVENT
SUMMARY:Artist Installing
UID:44484
DTSTAMP:20260424T054900Z
DTSTART:20260430T183000Z
DTEND:20260430T200000Z
LOCATION:Hampton Bays Public Library, 52 Ponquogue Ave, Hampton Bays, NY 1
 1946, United States
ROOM: Helen Gould - SPLIT A
DESCRIPTION:
URL:https://hamptonbays.librarycalendar.com/event/artist-installing-44484
END:VEVENT
END:VCALENDAR
